BEGIN:VCALENDAR
VERSION:2.0
PRODID:-//Hillsboro - ECPv6.15.20//NONSGML v1.0//EN
CALSCALE:GREGORIAN
METHOD:PUBLISH
X-WR-CALNAME:Hillsboro
X-ORIGINAL-URL:https://hillsborocountryclub.com
X-WR-CALDESC:Events for Hillsboro
REFRESH-INTERVAL;VALUE=DURATION:PT1H
X-Robots-Tag:noindex
X-PUBLISHED-TTL:PT1H
BEGIN:VTIMEZONE
TZID:America/Chicago
BEGIN:DAYLIGHT
TZOFFSETFROM:-0600
TZOFFSETTO:-0500
TZNAME:CDT
DTSTART:20210314T080000
END:DAYLIGHT
BEGIN:STANDARD
TZOFFSETFROM:-0500
TZOFFSETTO:-0600
TZNAME:CST
DTSTART:20211107T070000
END:STANDARD
BEGIN:DAYLIGHT
TZOFFSETFROM:-0600
TZOFFSETTO:-0500
TZNAME:CDT
DTSTART:20220313T080000
END:DAYLIGHT
BEGIN:STANDARD
TZOFFSETFROM:-0500
TZOFFSETTO:-0600
TZNAME:CST
DTSTART:20221106T070000
END:STANDARD
BEGIN:DAYLIGHT
TZOFFSETFROM:-0600
TZOFFSETTO:-0500
TZNAME:CDT
DTSTART:20230312T080000
END:DAYLIGHT
BEGIN:STANDARD
TZOFFSETFROM:-0500
TZOFFSETTO:-0600
TZNAME:CST
DTSTART:20231105T070000
END:STANDARD
END:VTIMEZONE
BEGIN:VEVENT
DTSTART;VALUE=DATE:20221007
DTEND;VALUE=DATE:20221008
DTSTAMP:20260421T091124
CREATED:20220503T180057Z
LAST-MODIFIED:20220503T180057Z
UID:5036-1665100800-1665187199@hillsborocountryclub.com
SUMMARY:Hillsboro Chamber of Commerce Golf Tournament
DESCRIPTION:
URL:https://hillsborocountryclub.com/event/hillsboro-chamber-of-commerce-golf-tournament/
LOCATION:Hillsboro Country Club\, 600 Country Club Drive\, Hillsboro\, TX\, 76645\, United States
END:VEVENT
BEGIN:VEVENT
DTSTART;VALUE=DATE:20220909
DTEND;VALUE=DATE:20220911
DTSTAMP:20260421T091124
CREATED:20220503T180237Z
LAST-MODIFIED:20220503T180237Z
UID:5040-1662681600-1662854399@hillsborocountryclub.com
SUMMARY:10th Annual Children's Miracle Network Golf Tournament
DESCRIPTION:
URL:https://hillsborocountryclub.com/event/10th-annual-childrens-miracle-network-golf-tournament/
LOCATION:Hillsboro Country Club\, 600 Country Club Drive\, Hillsboro\, TX\, 76645\, United States
END:VEVENT
BEGIN:VEVENT
DTSTART;VALUE=DATE:20220624
DTEND;VALUE=DATE:20220627
DTSTAMP:20260421T091124
CREATED:20220503T180340Z
LAST-MODIFIED:20220503T180340Z
UID:5043-1656028800-1656287999@hillsborocountryclub.com
SUMMARY:Hillsboro Country Club Member/Guest Golf Tournament
DESCRIPTION:
URL:https://hillsborocountryclub.com/event/hillsboro-country-club-member-guest-golf-tournament/
LOCATION:Hillsboro Country Club\, 600 Country Club Drive\, Hillsboro\, TX\, 76645\, United States
END:VEVENT
END:VCALENDAR